BEGIN:VCALENDAR
VERSION:2.0
PRODID:-//Plone.org//NONSGML plone.app.event//EN
X-WR-TIMEZONE:Europe/Berlin
BEGIN:VEVENT
SUMMARY:History in Context: Schulwissen sammeln und verbreiten. Schulmusee
 n im 19. Jahrhundert
DTSTART;TZID=Europe/Berlin:20260617T183000
DTEND;TZID=Europe/Berlin:20260617T210000
DTSTAMP:20260421T172317Z
UID:4b772f4c4f8f46dcbe9acf458fa7aa71@dipf_zeoclients
CREATED:20260421T085959Z
DESCRIPTION:\nhttps://bbf.dipf.de/de/aktuell/termine/history-in-context-sc
 hulwissen-sammeln-und-verbreiten-schulmuseen-im-19-jahrhundert
LAST-MODIFIED:20260421T091833Z
LOCATION:Berlin\, BBF\, Warschauer Str. 34
URL:https://bbf.dipf.de/de/aktuell/termine/history-in-context-schulwissen-
 sammeln-und-verbreiten-schulmuseen-im-19-jahrhundert
END:VEVENT
BEGIN:VTIMEZONE
TZID:Europe/Berlin
X-LIC-LOCATION:Europe/Berlin
BEGIN:DAYLIGHT
DTSTART:20260329T030000
TZNAME:CEST
TZOFFSETFROM:+0100
TZOFFSETTO:+0200
END:DAYLIGHT
END:VTIMEZONE
END:VCALENDAR
