BEGIN:VCALENDAR
VERSION:2.0
PRODID:-//Plone.org//NONSGML plone.app.event//EN
X-WR-TIMEZONE:Europe/Berlin
BEGIN:VEVENT
SUMMARY:DHELab-Onlinevortrag »Stefan Udelhofen: Historische Berufsbildung
 sforschung und/als Digital History?«
DTSTART;TZID=Europe/Berlin:20250926T120000
DTEND;TZID=Europe/Berlin:20250926T130000
DTSTAMP:20260422T082209Z
UID:152c49e86e2c4b638f3d78aeaa1bc30f@dipf_zeoclients
CREATED:20230202T155704Z
DESCRIPTION:\nhttps://bbf.dipf.de/de/aktuell/termine/dhelab-vortrag-2025-0
 9
LAST-MODIFIED:20260319T114645Z
LOCATION:Online via Video-Konferenz
URL:https://bbf.dipf.de/de/aktuell/termine/dhelab-vortrag-2025-09
END:VEVENT
BEGIN:VTIMEZONE
TZID:Europe/Berlin
X-LIC-LOCATION:Europe/Berlin
BEGIN:DAYLIGHT
DTSTART:20250330T030000
TZNAME:CEST
TZOFFSETFROM:+0100
TZOFFSETTO:+0200
END:DAYLIGHT
END:VTIMEZONE
END:VCALENDAR
