BEGIN:VCALENDAR
VERSION:2.0
PRODID:-//Plone.org//NONSGML plone.app.event//EN
X-WR-TIMEZONE:Europe/Berlin
BEGIN:VEVENT
SUMMARY:DHELab-Vortrag »F. Dombrowski: Spurenlese: Resultate digitaler Me
 thoden in hermeneutischen Praxen am Beispiel SchulbuchEvolution & DigiRel
 «
DTSTART;TZID=Europe/Berlin:20250829T120000
DTEND;TZID=Europe/Berlin:20250829T130000
DTSTAMP:20260422T085621Z
UID:02c11ab0db2242a9aa6d30882bc30fb2@dipf_zeoclients
CREATED:20230202T155704Z
DESCRIPTION:﻿\nhttps://bbf.dipf.de/de/aktuell/termine/dhelab-vortrag-202
 5-08
LAST-MODIFIED:20260319T120158Z
LOCATION:Online via Video-Konferenz
URL:https://bbf.dipf.de/de/aktuell/termine/dhelab-vortrag-2025-08
END:VEVENT
BEGIN:VTIMEZONE
TZID:Europe/Berlin
X-LIC-LOCATION:Europe/Berlin
BEGIN:DAYLIGHT
DTSTART:20250330T030000
TZNAME:CEST
TZOFFSETFROM:+0100
TZOFFSETTO:+0200
END:DAYLIGHT
END:VTIMEZONE
END:VCALENDAR
