BEGIN:VCALENDAR
VERSION:2.0
PRODID:-//Plone.org//NONSGML plone.app.event//EN
X-WR-TIMEZONE:Europe/Berlin
BEGIN:VEVENT
SUMMARY:DHELab-Onlinevortrag »Rebekka Horlacher: Digitale Edition der Kop
 ierbücher aus Pestalozzis Institut in Yverdon«
DTSTART;TZID=Europe/Berlin:20250425T120000
DTEND;TZID=Europe/Berlin:20250425T130000
DTSTAMP:20260422T082246Z
UID:05fbb561eeb2472891cfa483f5eaaab8@dipf_zeoclients
CREATED:20230202T155704Z
DESCRIPTION:\nhttps://bbf.dipf.de/de/aktuell/termine/dhelab-vortrag-2025-0
 4
LAST-MODIFIED:20260319T114637Z
LOCATION:Online via Video-Konferenz
URL:https://bbf.dipf.de/de/aktuell/termine/dhelab-vortrag-2025-04
END:VEVENT
BEGIN:VTIMEZONE
TZID:Europe/Berlin
X-LIC-LOCATION:Europe/Berlin
BEGIN:DAYLIGHT
DTSTART:20250330T030000
TZNAME:CEST
TZOFFSETFROM:+0100
TZOFFSETTO:+0200
END:DAYLIGHT
END:VTIMEZONE
END:VCALENDAR
