BEGIN:VCALENDAR
VERSION:2.0
PRODID:-//Plone.org//NONSGML plone.app.event//EN
X-WR-TIMEZONE:Europe/Berlin
BEGIN:VEVENT
SUMMARY:DHELab-Onlinevortrag »Monika Mattes & Denise Löwe: Digitale Quel
 len in der (bildungs-)historischen Forschung und die Rolle von Bibliotheke
 n«
DTSTART;TZID=Europe/Berlin:20250328T120000
DTEND;TZID=Europe/Berlin:20250328T130000
DTSTAMP:20260422T082135Z
UID:8312930d86294ced9c7db8cb2ccbf515@dipf_zeoclients
CREATED:20230202T155704Z
DESCRIPTION:\nhttps://bbf.dipf.de/de/aktuell/termine/dhelab-vortrag-2025-0
 3
LAST-MODIFIED:20251208T083548Z
LOCATION:Online via Video-Konferenz
URL:https://bbf.dipf.de/de/aktuell/termine/dhelab-vortrag-2025-03
END:VEVENT
BEGIN:VTIMEZONE
TZID:Europe/Berlin
X-LIC-LOCATION:Europe/Berlin
BEGIN:STANDARD
DTSTART:20241027T020000
TZNAME:CET
TZOFFSETFROM:+0200
TZOFFSETTO:+0100
END:STANDARD
END:VTIMEZONE
END:VCALENDAR
