BEGIN:VCALENDAR
VERSION:2.0
PRODID:-//Plone.org//NONSGML plone.app.event//EN
X-WR-TIMEZONE:Europe/Berlin
BEGIN:VEVENT
SUMMARY:DHELab-Onlinevortrag »Forschungsinformation und neue Zugänge fü
 r Forschung durch Textmining und Machine Learning am Beispiel der WebApp E
 duTopics«
DTSTART;TZID=Europe/Berlin:20250131T120000
DTEND;TZID=Europe/Berlin:20250131T130000
DTSTAMP:20260422T082112Z
UID:f80c40d55a7243199647c2dc9ea0b4a0@dipf_zeoclients
CREATED:20230202T155704Z
DESCRIPTION:\nhttps://bbf.dipf.de/de/aktuell/termine/dhelab-vortrag-2025-0
 1
LAST-MODIFIED:20251208T083754Z
LOCATION:Online via Video-Konferenz
URL:https://bbf.dipf.de/de/aktuell/termine/dhelab-vortrag-2025-01
END:VEVENT
BEGIN:VTIMEZONE
TZID:Europe/Berlin
X-LIC-LOCATION:Europe/Berlin
BEGIN:STANDARD
DTSTART:20241027T020000
TZNAME:CET
TZOFFSETFROM:+0200
TZOFFSETTO:+0100
END:STANDARD
END:VTIMEZONE
END:VCALENDAR
