BEGIN:VCALENDAR
VERSION:2.0
PRODID:-//Plone.org//NONSGML plone.app.event//EN
X-WR-TIMEZONE:Europe/Berlin
BEGIN:VEVENT
SUMMARY:DHELab-Onlinevortrag »Mark-Jan Bludau & Viktoria Brüggemann: Gra
 DiM  –  Visualisierung eines Fotoarchivs über die jüdische Diaspora«
DTSTART;TZID=Europe/Berlin:20241025T120000
DTEND;TZID=Europe/Berlin:20241025T130000
DTSTAMP:20260420T142146Z
UID:0319bf9782c9494e91cafd2899add99c@dipf_zeoclients
CREATED:20230202T155704Z
DESCRIPTION:\nhttps://bbf.dipf.de/de/aktuell/termine/dhelab-vortrag-2024-1
 0
LAST-MODIFIED:20251205T183752Z
LOCATION:Online via Video-Konferenz
URL:https://bbf.dipf.de/de/aktuell/termine/dhelab-vortrag-2024-10
END:VEVENT
BEGIN:VTIMEZONE
TZID:Europe/Berlin
X-LIC-LOCATION:Europe/Berlin
BEGIN:DAYLIGHT
DTSTART:20240331T030000
TZNAME:CEST
TZOFFSETFROM:+0100
TZOFFSETTO:+0200
END:DAYLIGHT
END:VTIMEZONE
END:VCALENDAR
